BEGIN:VCALENDAR
VERSION:2.0
PRODID:-//ChamberMaster//Event Calendar 2.0//EN
METHOD:PUBLISH
X-PUBLISHED-TTL:P3D
REFRESH-INTERVAL:P3D
CALSCALE:GREGORIAN
BEGIN:VEVENT
DTSTART:20240418T170000Z
DTEND:20240418T170000Z
X-MICROSOFT-CDO-ALLDAYEVENT:FALSE
SUMMARY:SMMC Roadside Inspection
DESCRIPTION:The SMMC roadside inspection gives our members an opportunity to work alongside our Motor Carrier Troopers and our FMCA agents as they conduct the inspections. Level 1\, 2\, and 3 inspections will be conducted\, providing valuable training and education regarding the inspection process.
X-ALT-DESC;FMTTYPE=text/html:The SMMC roadside inspection gives our members an opportunity to work alongside our Motor Carrier Troopers and our FMCA agents as they conduct the inspections. Level 1\, 2\, and 3 inspections will be conducted\, providing valuable training and education regarding the inspection process.
LOCATION:Tuscaloosa Rest Area I20/59 Southbound Side
UID:e.3165.205
SEQUENCE:3
DTSTAMP:20260423T092504Z
URL:https://business.alabamatrucking.org/events/details/smmc-roadside-inspection-205
END:VEVENT

END:VCALENDAR
